BEGIN:VCALENDAR
VERSION:2.0
PRODID:-//Comunità Pastorale San Maurizio - ECPv5.1.2//NONSGML v1.0//EN
CALSCALE:GREGORIAN
METHOD:PUBLISH
X-WR-CALNAME:Comunità Pastorale San Maurizio
X-ORIGINAL-URL:https://www.comunitasanmaurizio.it
X-WR-CALDESC:Eventi per Comunità Pastorale San Maurizio
BEGIN:VTIMEZONE
TZID:Europe/Rome
BEGIN:DAYLIGHT
TZOFFSETFROM:+0100
TZOFFSETTO:+0200
TZNAME:CEST
DTSTART:20230326T010000
END:DAYLIGHT
BEGIN:STANDARD
TZOFFSETFROM:+0200
TZOFFSETTO:+0100
TZNAME:CET
DTSTART:20231029T010000
END:STANDARD
END:VTIMEZONE
BEGIN:VEVENT
DTSTART;VALUE=DATE:20231224
DTEND;VALUE=DATE:20231225
DTSTAMP:20260421T214238
CREATED:20231222T132233Z
LAST-MODIFIED:20231222T132756Z
UID:11374-1703376000-1703462399@www.comunitasanmaurizio.it
SUMMARY:SANTE MESSE DI NATALE
DESCRIPTION:lunedì’ 25 dicembre \nNATALE DEL SIGNORE \nIn tutte le Chiese\, secondo gli orari festivi ovvero: \nSan Giulio ore 08.00 – 09.30 – 11.15 – 18.00 \nSanta Maria ore 10.00 – 11.30 – 17.00 \nSan Martino ore 08.30 \nSan Pietro ore 07.30 – 10.00 – 11.30 \nSan Bernardo ore 09.00 \n  \nSANTA MESSA DEL NATALE \n  \n
URL:https://www.comunitasanmaurizio.it/event/vig-2-2-2/
LOCATION:Parrocchia San Giulio\, Piazza S. Giulio\, 7\, Cassano Magnago\, Varese\, 21012\, Italia
ATTACH;FMTTYPE=image/jpeg:https://www.comunitasanmaurizio.it/wp-content/uploads/2022/04/eventi_base.jpg
END:VEVENT
END:VCALENDAR