BEGIN:VCALENDAR
VERSION:2.0
PRODID:-//Comunità Pastorale San Maurizio - ECPv5.1.2//NONSGML v1.0//EN
CALSCALE:GREGORIAN
METHOD:PUBLISH
X-WR-CALNAME:Comunità Pastorale San Maurizio
X-ORIGINAL-URL:https://www.comunitasanmaurizio.it
X-WR-CALDESC:Eventi per Comunità Pastorale San Maurizio
BEGIN:VTIMEZONE
TZID:Europe/Rome
BEGIN:DAYLIGHT
TZOFFSETFROM:+0100
TZOFFSETTO:+0200
TZNAME:CEST
DTSTART:20250330T010000
END:DAYLIGHT
BEGIN:STANDARD
TZOFFSETFROM:+0200
TZOFFSETTO:+0100
TZNAME:CET
DTSTART:20251026T010000
END:STANDARD
END:VTIMEZONE
BEGIN:VEVENT
DTSTART;TZID=Europe/Rome:20250726T170000
DTEND;TZID=Europe/Rome:20250728T190000
DTSTAMP:20260422T020341
CREATED:20250711T135000Z
LAST-MODIFIED:20250711T135000Z
UID:13876-1753549200-1753729200@www.comunitasanmaurizio.it
SUMMARY:FESTA DI SANT'ANNA /2
DESCRIPTION:SABATO 26 LUGLIO \nore 17.00 S. Messa  nel giorno proprio della festa\, benedizione ai nonni\, bacio della reliquia \n
URL:https://www.comunitasanmaurizio.it/event/vac-2-2-2/
LOCATION:sant’anna\, via sant'anna\, Cassano Magnago\, VARESE\, 21012\, Italia
ATTACH;FMTTYPE=image/jpeg:https://www.comunitasanmaurizio.it/wp-content/uploads/2022/04/eventi_base.jpg
END:VEVENT
END:VCALENDAR