BEGIN:VCALENDAR
VERSION:2.0
PRODID:-//Comunità Pastorale San Maurizio - ECPv5.1.2//NONSGML v1.0//EN
CALSCALE:GREGORIAN
METHOD:PUBLISH
X-WR-CALNAME:Comunità Pastorale San Maurizio
X-ORIGINAL-URL:https://www.comunitasanmaurizio.it
X-WR-CALDESC:Eventi per Comunità Pastorale San Maurizio
BEGIN:VTIMEZONE
TZID:Europe/Rome
BEGIN:DAYLIGHT
TZOFFSETFROM:+0100
TZOFFSETTO:+0200
TZNAME:CEST
DTSTART:20220327T010000
END:DAYLIGHT
BEGIN:STANDARD
TZOFFSETFROM:+0200
TZOFFSETTO:+0100
TZNAME:CET
DTSTART:20221030T010000
END:STANDARD
END:VTIMEZONE
BEGIN:VEVENT
DTSTART;TZID=Europe/Rome:20220916T190000
DTEND;TZID=Europe/Rome:20220916T210000
DTSTAMP:20260421T183304
CREATED:20220821T082758Z
LAST-MODIFIED:20220821T082758Z
UID:6935-1663354800-1663362000@www.comunitasanmaurizio.it
SUMMARY:FESTA SAN MAURIZIO
DESCRIPTION:Venerdì 16 settembre \nOre 20.00 S. Messa presso il campanile animata dal coro “rosa delle Alpi” \nA seguire polenta presso l’oratorio di Santa Maria \n
URL:https://www.comunitasanmaurizio.it/event/smau/
LOCATION:Parrocchia Santa Maria del Cerro\, Piazza S. Maria\, 8\, Cassano Magnago\, Varese\, 21012\, Italia
ATTACH;FMTTYPE=image/jpeg:https://www.comunitasanmaurizio.it/wp-content/uploads/2022/04/eventi_base.jpg
END:VEVENT
END:VCALENDAR