BEGIN:VCALENDAR
VERSION:2.0
PRODID:-//Comunità Pastorale San Maurizio - ECPv5.1.2//NONSGML v1.0//EN
CALSCALE:GREGORIAN
METHOD:PUBLISH
X-WR-CALNAME:Comunità Pastorale San Maurizio
X-ORIGINAL-URL:https://www.comunitasanmaurizio.it
X-WR-CALDESC:Eventi per Comunità Pastorale San Maurizio
BEGIN:VTIMEZONE
TZID:Europe/Rome
BEGIN:DAYLIGHT
TZOFFSETFROM:+0100
TZOFFSETTO:+0200
TZNAME:CEST
DTSTART:20220327T010000
END:DAYLIGHT
BEGIN:STANDARD
TZOFFSETFROM:+0200
TZOFFSETTO:+0100
TZNAME:CET
DTSTART:20221030T010000
END:STANDARD
END:VTIMEZONE
BEGIN:VEVENT
DTSTART;VALUE=DATE:20220918
DTEND;VALUE=DATE:20220919
DTSTAMP:20260421T214258
CREATED:20220910T192925Z
LAST-MODIFIED:20220910T193210Z
UID:6979-1663459200-1663545599@www.comunitasanmaurizio.it
SUMMARY:FESTA SAN MAURIZIO e della COMUNITA' PASTORALE
DESCRIPTION:DOMENICA 18 SETTEMBRE \nORE 10.30 al Parco della Magana\n \nS. Messa e anniversari di matrimonio ( tutte le coppie festeggiate saranno chiamate e salutate a partire dalle ore 10.00) \nore 11.30 benemerenze civiche \nore 12.30 pranzo in oratorio \nore 14.00 festa in oratorio \nore 21.00 concerto antichi organi in chiesa S. Maria. \n
URL:https://www.comunitasanmaurizio.it/event/smau-2-2/
LOCATION:Parrocchia Santa Maria del Cerro\, Piazza S. Maria\, 8\, Cassano Magnago\, Varese\, 21012\, Italia
ATTACH;FMTTYPE=image/jpeg:https://www.comunitasanmaurizio.it/wp-content/uploads/2022/04/eventi_base.jpg
END:VEVENT
END:VCALENDAR