BEGIN:VCALENDAR
VERSION:2.0
PRODID:-//Comunità Pastorale San Maurizio - ECPv5.1.2//NONSGML v1.0//EN
CALSCALE:GREGORIAN
METHOD:PUBLISH
X-WR-CALNAME:Comunità Pastorale San Maurizio
X-ORIGINAL-URL:https://www.comunitasanmaurizio.it
X-WR-CALDESC:Eventi per Comunità Pastorale San Maurizio
BEGIN:VTIMEZONE
TZID:Europe/Rome
BEGIN:DAYLIGHT
TZOFFSETFROM:+0100
TZOFFSETTO:+0200
TZNAME:CEST
DTSTART:20220327T010000
END:DAYLIGHT
BEGIN:STANDARD
TZOFFSETFROM:+0200
TZOFFSETTO:+0100
TZNAME:CET
DTSTART:20221030T010000
END:STANDARD
END:VTIMEZONE
BEGIN:VEVENT
DTSTART;VALUE=DATE:20220925
DTEND;VALUE=DATE:20220926
DTSTAMP:20260422T052710
CREATED:20220910T193548Z
LAST-MODIFIED:20220910T193548Z
UID:6985-1664064000-1664150399@www.comunitasanmaurizio.it
SUMMARY:FESTA ALL'ORATORIO SAN GIULIO
DESCRIPTION:domenica 25 settembre \nOre 09.30 S. Messa e accoglienza ufficiale a don Emanuele Lupi \nA seguire colazione \nDalle ore 12.30 PRANZO: per tutti in oratorio. vedi volantino \nore 14.00 Accoglienza e bans \nore 14.30 animazione per ragazzi e famiglie \n  \nore 16.15 momento di preghiera \n  \nore 18.00 spettacolo \n  \n
URL:https://www.comunitasanmaurizio.it/event/sgiulio/
LOCATION:Parrocchia San Giulio\, Piazza S. Giulio\, 7\, Cassano Magnago\, Varese\, 21012\, Italia
ATTACH;FMTTYPE=image/jpeg:https://www.comunitasanmaurizio.it/wp-content/uploads/2022/04/eventi_base.jpg
END:VEVENT
END:VCALENDAR