BEGIN:VCALENDAR
VERSION:2.0
PRODID:-//Comunità Pastorale San Maurizio - ECPv5.1.2//NONSGML v1.0//EN
CALSCALE:GREGORIAN
METHOD:PUBLISH
X-WR-CALNAME:Comunità Pastorale San Maurizio
X-ORIGINAL-URL:https://www.comunitasanmaurizio.it
X-WR-CALDESC:Eventi per Comunità Pastorale San Maurizio
BEGIN:VTIMEZONE
TZID:Europe/Rome
BEGIN:DAYLIGHT
TZOFFSETFROM:+0100
TZOFFSETTO:+0200
TZNAME:CEST
DTSTART:20220327T010000
END:DAYLIGHT
BEGIN:STANDARD
TZOFFSETFROM:+0200
TZOFFSETTO:+0100
TZNAME:CET
DTSTART:20221030T010000
END:STANDARD
END:VTIMEZONE
BEGIN:VEVENT
DTSTART;TZID=Europe/Rome:20220920T203000
DTEND;TZID=Europe/Rome:20220920T223000
DTSTAMP:20260421T231521
CREATED:20220915T154140Z
LAST-MODIFIED:20220915T154140Z
UID:6987-1663705800-1663713000@www.comunitasanmaurizio.it
SUMMARY:FESTA ALL'ORATORIO SAN GIULIO - confessioni
DESCRIPTION:martedì 20 settembre \nore 20.45 in San Giulio confessioni per adolescenti e giovani \n  \n
URL:https://www.comunitasanmaurizio.it/event/sgiulio-2/
LOCATION:Parrocchia San Giulio\, Piazza S. Giulio\, 7\, Cassano Magnago\, Varese\, 21012\, Italia
ATTACH;FMTTYPE=image/jpeg:https://www.comunitasanmaurizio.it/wp-content/uploads/2022/04/eventi_base.jpg
END:VEVENT
END:VCALENDAR