BEGIN:VCALENDAR
VERSION:2.0
PRODID:-//Comunità Pastorale San Maurizio - ECPv5.1.2//NONSGML v1.0//EN
CALSCALE:GREGORIAN
METHOD:PUBLISH
X-WR-CALNAME:Comunità Pastorale San Maurizio
X-ORIGINAL-URL:https://www.comunitasanmaurizio.it
X-WR-CALDESC:Eventi per Comunità Pastorale San Maurizio
BEGIN:VTIMEZONE
TZID:Europe/Rome
BEGIN:DAYLIGHT
TZOFFSETFROM:+0100
TZOFFSETTO:+0200
TZNAME:CEST
DTSTART:20220327T010000
END:DAYLIGHT
BEGIN:STANDARD
TZOFFSETFROM:+0200
TZOFFSETTO:+0100
TZNAME:CET
DTSTART:20221030T010000
END:STANDARD
END:VTIMEZONE
BEGIN:VEVENT
DTSTART;TZID=Europe/Rome:20220902T200000
DTEND;TZID=Europe/Rome:20220904T220000
DTSTAMP:20260421T152257
CREATED:20220821T082025Z
LAST-MODIFIED:20220821T082025Z
UID:6921-1662148800-1662328800@www.comunitasanmaurizio.it
SUMMARY:FESTA DI SAN BERNARDO ALLA VILLA
DESCRIPTION:venerdì 2 settembre \nore 20.00 S. Messa \nsegui il programma della serata sulla locandina \n
URL:https://www.comunitasanmaurizio.it/event/sbernardo-2/
LOCATION:san bernardo\, via san bernardo\, Cassano Magnago\, Varese\, 21012\, Italia
ATTACH;FMTTYPE=image/jpeg:https://www.comunitasanmaurizio.it/wp-content/uploads/2022/04/eventi_base.jpg
END:VEVENT
END:VCALENDAR