BEGIN:VCALENDAR
VERSION:2.0
PRODID:-//Comunità Pastorale San Maurizio - ECPv5.1.2//NONSGML v1.0//EN
CALSCALE:GREGORIAN
METHOD:PUBLISH
X-WR-CALNAME:Comunità Pastorale San Maurizio
X-ORIGINAL-URL:https://www.comunitasanmaurizio.it
X-WR-CALDESC:Eventi per Comunità Pastorale San Maurizio
BEGIN:VTIMEZONE
TZID:Europe/Rome
BEGIN:DAYLIGHT
TZOFFSETFROM:+0100
TZOFFSETTO:+0200
TZNAME:CEST
DTSTART:20200329T010000
END:DAYLIGHT
BEGIN:STANDARD
TZOFFSETFROM:+0200
TZOFFSETTO:+0100
TZNAME:CET
DTSTART:20201025T010000
END:STANDARD
END:VTIMEZONE
BEGIN:VEVENT
DTSTART;TZID=Europe/Rome:20201105T210000
DTEND;TZID=Europe/Rome:20201105T220000
DTSTAMP:20260424T040301
CREATED:20201028T162432Z
LAST-MODIFIED:20201031T230102Z
UID:4034-1604610000-1604613600@www.comunitasanmaurizio.it
SUMMARY:Evento culturale San Martino 2020
DESCRIPTION:21.00 chiesa San Martino: \nincontro culturale con Antonio Castiglioni: “Tra cronaca\, storia\, religiosità ed arte– chiese sul territorio di Cassano” \n  \n
URL:https://www.comunitasanmaurizio.it/event/san-martino/
LOCATION:Chiesa di San Martino\, Via G. Puccini\, 4\, Cassano Magnago\, Varese\, 21012
CATEGORIES:Incontri Comunitari
ORGANIZER;CN="Comunit%C3%A0%20Pastorale%20San%20Maurizio":MAILTO:segreteria@comunitasanmaurizio.it
END:VEVENT
END:VCALENDAR