BEGIN:VCALENDAR
VERSION:2.0
PRODID:-//Comunità Pastorale San Maurizio - ECPv5.1.2//NONSGML v1.0//EN
CALSCALE:GREGORIAN
METHOD:PUBLISH
X-WR-CALNAME:Comunità Pastorale San Maurizio
X-ORIGINAL-URL:https://www.comunitasanmaurizio.it
X-WR-CALDESC:Eventi per Comunità Pastorale San Maurizio
BEGIN:VTIMEZONE
TZID:Europe/Rome
BEGIN:DAYLIGHT
TZOFFSETFROM:+0100
TZOFFSETTO:+0200
TZNAME:CEST
DTSTART:20230326T010000
END:DAYLIGHT
BEGIN:STANDARD
TZOFFSETFROM:+0200
TZOFFSETTO:+0100
TZNAME:CET
DTSTART:20231029T010000
END:STANDARD
END:VTIMEZONE
BEGIN:VEVENT
DTSTART;TZID=Europe/Rome:20230629T203000
DTEND;TZID=Europe/Rome:20230701T223000
DTSTAMP:20260422T101100
CREATED:20230623T215717Z
LAST-MODIFIED:20230623T215717Z
UID:10099-1688070600-1688250600@www.comunitasanmaurizio.it
SUMMARY:festa patronale San Pietro - sabato
DESCRIPTION:sabato 1 luglio \nnella “notte rosa” \nore 19.00 cena in “Provenza”\, tornei\, stand gastronomici\, silent disco \nChiesa di San Pietro \nore 20.30 S. Messa \n
URL:https://www.comunitasanmaurizio.it/event/patr-2-2/
LOCATION:Parrocchia San Pietro\, Via San Pio X\, 57\, Cassano Magnago\, Varese\, 21012\, Italia
ATTACH;FMTTYPE=image/jpeg:https://www.comunitasanmaurizio.it/wp-content/uploads/2022/04/eventi_base.jpg
END:VEVENT
END:VCALENDAR