BEGIN:VCALENDAR
VERSION:2.0
PRODID:-//Comunità Pastorale San Maurizio - ECPv5.1.2//NONSGML v1.0//EN
CALSCALE:GREGORIAN
METHOD:PUBLISH
X-WR-CALNAME:Comunità Pastorale San Maurizio
X-ORIGINAL-URL:https://www.comunitasanmaurizio.it
X-WR-CALDESC:Eventi per Comunità Pastorale San Maurizio
BEGIN:VTIMEZONE
TZID:Europe/Rome
BEGIN:DAYLIGHT
TZOFFSETFROM:+0100
TZOFFSETTO:+0200
TZNAME:CEST
DTSTART:20230326T010000
END:DAYLIGHT
BEGIN:STANDARD
TZOFFSETFROM:+0200
TZOFFSETTO:+0100
TZNAME:CET
DTSTART:20231029T010000
END:STANDARD
END:VTIMEZONE
BEGIN:VEVENT
DTSTART;TZID=Europe/Rome:20231218T170000
DTEND;TZID=Europe/Rome:20231223T180000
DTSTAMP:20260422T005254
CREATED:20231201T080257Z
LAST-MODIFIED:20231206T214426Z
UID:11279-1702918800-1703354400@www.comunitasanmaurizio.it
SUMMARY:18 - 23 dicembre novena ragazzi
DESCRIPTION:da lunedì 18 a venerdì 12 dicembre \n  \nore 17. 00 Chiesa di San Giulio \nNOVENA  DEI RAGAZZI \n  \n
URL:https://www.comunitasanmaurizio.it/event/nvena/
LOCATION:Parrocchia San Giulio\, Piazza S. Giulio\, 7\, Cassano Magnago\, Varese\, 21012\, Italia
ATTACH;FMTTYPE=image/jpeg:https://www.comunitasanmaurizio.it/wp-content/uploads/2022/04/eventi_base.jpg
END:VEVENT
END:VCALENDAR