BEGIN:VCALENDAR
VERSION:2.0
PRODID:-//Comunità Pastorale San Maurizio - ECPv5.1.2//NONSGML v1.0//EN
CALSCALE:GREGORIAN
METHOD:PUBLISH
X-WR-CALNAME:Comunità Pastorale San Maurizio
X-ORIGINAL-URL:https://www.comunitasanmaurizio.it
X-WR-CALDESC:Eventi per Comunità Pastorale San Maurizio
BEGIN:VTIMEZONE
TZID:Europe/Rome
BEGIN:DAYLIGHT
TZOFFSETFROM:+0100
TZOFFSETTO:+0200
TZNAME:CEST
DTSTART:20250330T010000
END:DAYLIGHT
BEGIN:STANDARD
TZOFFSETFROM:+0200
TZOFFSETTO:+0100
TZNAME:CET
DTSTART:20251026T010000
END:STANDARD
END:VTIMEZONE
BEGIN:VEVENT
DTSTART;TZID=Europe/Rome:20250128T203000
DTEND;TZID=Europe/Rome:20250128T223000
DTSTAMP:20260422T011333
CREATED:20250124T220038Z
LAST-MODIFIED:20250124T220038Z
UID:12857-1738096200-1738103400@www.comunitasanmaurizio.it
SUMMARY:corso fidanzati
DESCRIPTION:martedì 28 gennaio \nore 21.00 \noratorio santa Maria \n  \n
URL:https://www.comunitasanmaurizio.it/event/nat-2-2-4-2/
LOCATION:Parrocchia Santa Maria del Cerro\, Piazza S. Maria\, 8\, Cassano Magnago\, Varese\, 21012\, Italia
ATTACH;FMTTYPE=image/jpeg:https://www.comunitasanmaurizio.it/wp-content/uploads/2022/04/eventi_base.jpg
END:VEVENT
END:VCALENDAR