BEGIN:VCALENDAR
VERSION:2.0
PRODID:-//Comunità Pastorale San Maurizio - ECPv5.1.2//NONSGML v1.0//EN
CALSCALE:GREGORIAN
METHOD:PUBLISH
X-WR-CALNAME:Comunità Pastorale San Maurizio
X-ORIGINAL-URL:https://www.comunitasanmaurizio.it
X-WR-CALDESC:Eventi per Comunità Pastorale San Maurizio
BEGIN:VTIMEZONE
TZID:Europe/Rome
BEGIN:DAYLIGHT
TZOFFSETFROM:+0100
TZOFFSETTO:+0200
TZNAME:CEST
DTSTART:20230326T010000
END:DAYLIGHT
BEGIN:STANDARD
TZOFFSETFROM:+0200
TZOFFSETTO:+0100
TZNAME:CET
DTSTART:20231029T010000
END:STANDARD
END:VTIMEZONE
BEGIN:VEVENT
DTSTART;VALUE=DATE:20231102
DTEND;VALUE=DATE:20231103
DTSTAMP:20260423T181341
CREATED:20231028T084644Z
LAST-MODIFIED:20231028T084644Z
UID:11161-1698883200-1698969599@www.comunitasanmaurizio.it
SUMMARY:ORARI S. MESSE NEL GIORNO DEI MORTI
DESCRIPTION:Giovedì 02 novembre \norari S. Messe \nSan Giulio: ore 06.20; 08.00; 18.00; 20.45 \nSanta Maria: ore 09.00 \nSan Pietro: ore 08.30 \nMadri Canossiane: \nore 06.45 \nCimitero: ore 09.00 \n
URL:https://www.comunitasanmaurizio.it/event/morti-3/
LOCATION:Parrocchie della Città
ATTACH;FMTTYPE=image/jpeg:https://www.comunitasanmaurizio.it/wp-content/uploads/2022/04/eventi_base.jpg
END:VEVENT
END:VCALENDAR