BEGIN:VCALENDAR
VERSION:2.0
PRODID:-//Comunità Pastorale San Maurizio - ECPv5.1.2//NONSGML v1.0//EN
CALSCALE:GREGORIAN
METHOD:PUBLISH
X-WR-CALNAME:Comunità Pastorale San Maurizio
X-ORIGINAL-URL:https://www.comunitasanmaurizio.it
X-WR-CALDESC:Eventi per Comunità Pastorale San Maurizio
BEGIN:VTIMEZONE
TZID:Europe/Rome
BEGIN:DAYLIGHT
TZOFFSETFROM:+0100
TZOFFSETTO:+0200
TZNAME:CEST
DTSTART:20200329T010000
END:DAYLIGHT
BEGIN:STANDARD
TZOFFSETFROM:+0200
TZOFFSETTO:+0100
TZNAME:CET
DTSTART:20201025T010000
END:STANDARD
END:VTIMEZONE
BEGIN:VEVENT
DTSTART;TZID=Europe/Rome:20201104T203000
DTEND;TZID=Europe/Rome:20201104T210000
DTSTAMP:20260424T053814
CREATED:20201028T161856Z
LAST-MODIFIED:20201028T161856Z
UID:4029-1604521800-1604523600@www.comunitasanmaurizio.it
SUMMARY:Messa per i defunti mese di ottobre
DESCRIPTION:20.45 Chiesa di Santa Maria: \nnella festa di San Carlo Borromeo\, il ricordo dei defunti del mese di ottobre\n \n
URL:https://www.comunitasanmaurizio.it/event/messa-defunti-ottobre-2020/
LOCATION:Parrocchia Santa Maria del Cerro\, Piazza S. Maria\, 8\, Cassano Magnago\, Varese\, 21012\, Italia
CATEGORIES:Celebrazioni
ORGANIZER;CN="Comunit%C3%A0%20Pastorale%20San%20Maurizio":MAILTO:segreteria@comunitasanmaurizio.it
END:VEVENT
END:VCALENDAR