BEGIN:VCALENDAR
VERSION:2.0
PRODID:-//Comunità Pastorale San Maurizio - ECPv5.1.2//NONSGML v1.0//EN
CALSCALE:GREGORIAN
METHOD:PUBLISH
X-WR-CALNAME:Comunità Pastorale San Maurizio
X-ORIGINAL-URL:https://www.comunitasanmaurizio.it
X-WR-CALDESC:Eventi per Comunità Pastorale San Maurizio
BEGIN:VTIMEZONE
TZID:Europe/Rome
BEGIN:DAYLIGHT
TZOFFSETFROM:+0100
TZOFFSETTO:+0200
TZNAME:CEST
DTSTART:20220327T010000
END:DAYLIGHT
BEGIN:STANDARD
TZOFFSETFROM:+0200
TZOFFSETTO:+0100
TZNAME:CET
DTSTART:20221030T010000
END:STANDARD
END:VTIMEZONE
BEGIN:VEVENT
DTSTART;TZID=Europe/Rome:20220531T203000
DTEND;TZID=Europe/Rome:20220531T220000
DTSTAMP:20260424T084603
CREATED:20220521T163428Z
LAST-MODIFIED:20220521T163428Z
UID:6796-1654029000-1654034400@www.comunitasanmaurizio.it
SUMMARY:CONCLUSIONE MESE DI MAGGIO
DESCRIPTION:martedì 31 maggio \nore 20.45 in Santa Maria \nS. Messa a conclusione del mese di Maggio e processione aux flambeaux \n
URL:https://www.comunitasanmaurizio.it/event/maggio-3/
LOCATION:Parrocchia Santa Maria del Cerro\, Piazza S. Maria\, 8\, Cassano Magnago\, Varese\, 21012\, Italia
CATEGORIES:Celebrazioni,Santa Maria
ATTACH;FMTTYPE=image/jpeg:https://www.comunitasanmaurizio.it/wp-content/uploads/2022/04/eventi_base.jpg
END:VEVENT
END:VCALENDAR