BEGIN:VCALENDAR
VERSION:2.0
PRODID:-//Comunità Pastorale San Maurizio - ECPv5.1.2//NONSGML v1.0//EN
CALSCALE:GREGORIAN
METHOD:PUBLISH
X-WR-CALNAME:Comunità Pastorale San Maurizio
X-ORIGINAL-URL:https://www.comunitasanmaurizio.it
X-WR-CALDESC:Eventi per Comunità Pastorale San Maurizio
BEGIN:VTIMEZONE
TZID:Europe/Rome
BEGIN:DAYLIGHT
TZOFFSETFROM:+0100
TZOFFSETTO:+0200
TZNAME:CEST
DTSTART:20220327T010000
END:DAYLIGHT
BEGIN:STANDARD
TZOFFSETFROM:+0200
TZOFFSETTO:+0100
TZNAME:CET
DTSTART:20221030T010000
END:STANDARD
END:VTIMEZONE
BEGIN:VEVENT
DTSTART;TZID=Europe/Rome:20220509T210000
DTEND;TZID=Europe/Rome:20220509T223000
DTSTAMP:20260424T035913
CREATED:20220506T084849Z
LAST-MODIFIED:20220506T084849Z
UID:6754-1652130000-1652135400@www.comunitasanmaurizio.it
SUMMARY:formazione liturgica
DESCRIPTION:Lunedì 9 maggio \nore 21.15 in San Martino \nformazione liturgica sulle preghiere euaristiche \n
URL:https://www.comunitasanmaurizio.it/event/litugia/
LOCATION:Chiesa di San Martino\, Via G. Puccini\, 4\, Cassano Magnago\, Varese\, 21012
CATEGORIES:Celebrazioni,Santa Maria
ATTACH;FMTTYPE=image/jpeg:https://www.comunitasanmaurizio.it/wp-content/uploads/2022/04/eventi_base.jpg
END:VEVENT
END:VCALENDAR