BEGIN:VCALENDAR
VERSION:2.0
PRODID:-//Comunità Pastorale San Maurizio - ECPv5.1.2//NONSGML v1.0//EN
CALSCALE:GREGORIAN
METHOD:PUBLISH
X-WR-CALNAME:Comunità Pastorale San Maurizio
X-ORIGINAL-URL:https://www.comunitasanmaurizio.it
X-WR-CALDESC:Eventi per Comunità Pastorale San Maurizio
BEGIN:VTIMEZONE
TZID:Europe/Rome
BEGIN:DAYLIGHT
TZOFFSETFROM:+0100
TZOFFSETTO:+0200
TZNAME:CEST
DTSTART:20230326T010000
END:DAYLIGHT
BEGIN:STANDARD
TZOFFSETFROM:+0200
TZOFFSETTO:+0100
TZNAME:CET
DTSTART:20231029T010000
END:STANDARD
END:VTIMEZONE
BEGIN:VEVENT
DTSTART;VALUE=DATE:20230326
DTEND;VALUE=DATE:20230327
DTSTAMP:20260422T234829
CREATED:20230224T211415Z
LAST-MODIFIED:20230224T211415Z
UID:8283-1679788800-1679875199@www.comunitasanmaurizio.it
SUMMARY:domenica speciale 3 elementare
DESCRIPTION:domenica 26 marzo  2023 \nS: Messe per i ragazzi di 3 elementare e le loro famiglie agli orari consueti \nore 15.00 incontro genitori in San Giulio \n
URL:https://www.comunitasanmaurizio.it/event/fidanzati-5-2-2-2-2/
LOCATION:Parrocchia San Pietro\, Via San Pio X\, 57\, Cassano Magnago\, Varese\, 21012\, Italia
ATTACH;FMTTYPE=image/jpeg:https://www.comunitasanmaurizio.it/wp-content/uploads/2022/04/eventi_base.jpg
END:VEVENT
END:VCALENDAR