BEGIN:VCALENDAR
VERSION:2.0
PRODID:-//Comunità Pastorale San Maurizio - ECPv5.1.2//NONSGML v1.0//EN
CALSCALE:GREGORIAN
METHOD:PUBLISH
X-WR-CALNAME:Comunità Pastorale San Maurizio
X-ORIGINAL-URL:https://www.comunitasanmaurizio.it
X-WR-CALDESC:Eventi per Comunità Pastorale San Maurizio
BEGIN:VTIMEZONE
TZID:Europe/Rome
BEGIN:DAYLIGHT
TZOFFSETFROM:+0100
TZOFFSETTO:+0200
TZNAME:CEST
DTSTART:20220327T010000
END:DAYLIGHT
BEGIN:STANDARD
TZOFFSETFROM:+0200
TZOFFSETTO:+0100
TZNAME:CET
DTSTART:20221030T010000
END:STANDARD
END:VTIMEZONE
BEGIN:VEVENT
DTSTART;TZID=Europe/Rome:20221224T180000
DTEND;TZID=Europe/Rome:20221224T193000
DTSTAMP:20260424T204538
CREATED:20221221T072031Z
LAST-MODIFIED:20221221T072031Z
UID:7208-1671904800-1671910200@www.comunitasanmaurizio.it
SUMMARY:S Messa vigiliare del natale Santa Maria
DESCRIPTION:sabato 24 dicembre \n  \nore 18.30in chiesa di Santa Maria \n  \n
URL:https://www.comunitasanmaurizio.it/event/fidanzati-3-2-2-2-2-2-2/
LOCATION:Parrocchia San Pietro\, Via San Pio X\, 57\, Cassano Magnago\, Varese\, 21012\, Italia
ATTACH;FMTTYPE=image/jpeg:https://www.comunitasanmaurizio.it/wp-content/uploads/2022/04/eventi_base.jpg
END:VEVENT
END:VCALENDAR