BEGIN:VCALENDAR
VERSION:2.0
PRODID:-//Comunità Pastorale San Maurizio - ECPv5.1.2//NONSGML v1.0//EN
CALSCALE:GREGORIAN
METHOD:PUBLISH
X-WR-CALNAME:Comunità Pastorale San Maurizio
X-ORIGINAL-URL:https://www.comunitasanmaurizio.it
X-WR-CALDESC:Eventi per Comunità Pastorale San Maurizio
BEGIN:VTIMEZONE
TZID:Europe/Rome
BEGIN:DAYLIGHT
TZOFFSETFROM:+0100
TZOFFSETTO:+0200
TZNAME:CEST
DTSTART:20220327T010000
END:DAYLIGHT
BEGIN:STANDARD
TZOFFSETFROM:+0200
TZOFFSETTO:+0100
TZNAME:CET
DTSTART:20221030T010000
END:STANDARD
END:VTIMEZONE
BEGIN:VEVENT
DTSTART;TZID=Europe/Rome:20220924T183000
DTEND;TZID=Europe/Rome:20220924T233000
DTSTAMP:20260422T034558
CREATED:20220910T193351Z
LAST-MODIFIED:20220910T193351Z
UID:6983-1664044200-1664062200@www.comunitasanmaurizio.it
SUMMARY:FIACCOLATA
DESCRIPTION:SABATO 24 ETTEMBRE \nFIACCOLATA DEI RAGAZZI DELL’ORATORIO \naccoglienza ore 18.45 sul sagrato di San Giulio \npossibilità di cena in roatorio \nconcerto in oratorio \n  \n
URL:https://www.comunitasanmaurizio.it/event/fiaccolata/
LOCATION:Parrocchia San Giulio\, Piazza S. Giulio\, 7\, Cassano Magnago\, Varese\, 21012\, Italia
ATTACH;FMTTYPE=image/jpeg:https://www.comunitasanmaurizio.it/wp-content/uploads/2022/04/eventi_base.jpg
END:VEVENT
END:VCALENDAR