BEGIN:VCALENDAR
VERSION:2.0
PRODID:-//Comunità Pastorale San Maurizio - ECPv5.1.2//NONSGML v1.0//EN
CALSCALE:GREGORIAN
METHOD:PUBLISH
X-WR-CALNAME:Comunità Pastorale San Maurizio
X-ORIGINAL-URL:https://www.comunitasanmaurizio.it
X-WR-CALDESC:Eventi per Comunità Pastorale San Maurizio
BEGIN:VTIMEZONE
TZID:Europe/Rome
BEGIN:DAYLIGHT
TZOFFSETFROM:+0100
TZOFFSETTO:+0200
TZNAME:CEST
DTSTART:20230326T010000
END:DAYLIGHT
BEGIN:STANDARD
TZOFFSETFROM:+0200
TZOFFSETTO:+0100
TZNAME:CET
DTSTART:20231029T010000
END:STANDARD
END:VTIMEZONE
BEGIN:VEVENT
DTSTART;TZID=Europe/Rome:20231217T160000
DTEND;TZID=Europe/Rome:20231217T170000
DTSTAMP:20260422T033952
CREATED:20231201T080114Z
LAST-MODIFIED:20231201T080114Z
UID:11277-1702828800-1702832400@www.comunitasanmaurizio.it
SUMMARY:genitori 2 elementare
DESCRIPTION:domenica 17 dicembre \n  \nore 16.00 Chiesa di San Pietro \nincontro dei genitori di 2 elementare \n  \n  \n
URL:https://www.comunitasanmaurizio.it/event/elem/
LOCATION:Parrocchia San Pietro\, Via San Pio X\, 57\, Cassano Magnago\, Varese\, 21012\, Italia
ATTACH;FMTTYPE=image/jpeg:https://www.comunitasanmaurizio.it/wp-content/uploads/2022/04/eventi_base.jpg
END:VEVENT
END:VCALENDAR