BEGIN:VCALENDAR
VERSION:2.0
PRODID:-//Comunità Pastorale San Maurizio - ECPv5.1.2//NONSGML v1.0//EN
CALSCALE:GREGORIAN
METHOD:PUBLISH
X-WR-CALNAME:Comunità Pastorale San Maurizio
X-ORIGINAL-URL:https://www.comunitasanmaurizio.it
X-WR-CALDESC:Eventi per Comunità Pastorale San Maurizio
BEGIN:VTIMEZONE
TZID:Europe/Rome
BEGIN:DAYLIGHT
TZOFFSETFROM:+0100
TZOFFSETTO:+0200
TZNAME:CEST
DTSTART:20250330T010000
END:DAYLIGHT
BEGIN:STANDARD
TZOFFSETFROM:+0200
TZOFFSETTO:+0100
TZNAME:CET
DTSTART:20251026T010000
END:STANDARD
END:VTIMEZONE
BEGIN:VEVENT
DTSTART;TZID=Europe/Rome:20250206T203000
DTEND;TZID=Europe/Rome:20250206T223000
DTSTAMP:20260421T202406
CREATED:20250131T074934Z
LAST-MODIFIED:20250131T074934Z
UID:12893-1738873800-1738881000@www.comunitasanmaurizio.it
SUMMARY:DIALOGHI SUL BENE COMUNE 2025
DESCRIPTION:giovedì 6 febbraio \nore 20.45 SALONE SAN CARLO \noratorio S. Maria \n1° incontro \n  \n
URL:https://www.comunitasanmaurizio.it/event/elem-3-2-2-2/
LOCATION:Parrocchia San Giulio\, Piazza S. Giulio\, 7\, Cassano Magnago\, Varese\, 21012\, Italia
ATTACH;FMTTYPE=image/jpeg:https://www.comunitasanmaurizio.it/wp-content/uploads/2022/04/eventi_base.jpg
END:VEVENT
END:VCALENDAR