BEGIN:VCALENDAR
VERSION:2.0
PRODID:-//Comunità Pastorale San Maurizio - ECPv5.1.2//NONSGML v1.0//EN
CALSCALE:GREGORIAN
METHOD:PUBLISH
X-WR-CALNAME:Comunità Pastorale San Maurizio
X-ORIGINAL-URL:https://www.comunitasanmaurizio.it
X-WR-CALDESC:Eventi per Comunità Pastorale San Maurizio
BEGIN:VTIMEZONE
TZID:Europe/Rome
BEGIN:DAYLIGHT
TZOFFSETFROM:+0100
TZOFFSETTO:+0200
TZNAME:CEST
DTSTART:20250330T010000
END:DAYLIGHT
BEGIN:STANDARD
TZOFFSETFROM:+0200
TZOFFSETTO:+0100
TZNAME:CET
DTSTART:20251026T010000
END:STANDARD
END:VTIMEZONE
BEGIN:VEVENT
DTSTART;TZID=Europe/Rome:20250903T203000
DTEND;TZID=Europe/Rome:20250905T220000
DTSTAMP:20260421T194435
CREATED:20250823T093651Z
LAST-MODIFIED:20250823T093651Z
UID:13932-1756931400-1757109600@www.comunitasanmaurizio.it
SUMMARY:S. MESSA DEFUNTI LUGLIO E AGOSTO
DESCRIPTION:mercoledì 03 settembre \nore 20.45 in Chiesa di San Giulio \nSUFFRAGIO CRISTIANO dei defunti dei mesi di luglio e agosto \n
URL:https://www.comunitasanmaurizio.it/event/def/
LOCATION:Parrocchia San Giulio\, Piazza S. Giulio\, 7\, Cassano Magnago\, Varese\, 21012\, Italia
ATTACH;FMTTYPE=image/jpeg:https://www.comunitasanmaurizio.it/wp-content/uploads/2022/04/eventi_base.jpg
END:VEVENT
END:VCALENDAR