BEGIN:VCALENDAR
VERSION:2.0
PRODID:-//Comunità Pastorale San Maurizio - ECPv5.1.2//NONSGML v1.0//EN
CALSCALE:GREGORIAN
METHOD:PUBLISH
X-WR-CALNAME:Comunità Pastorale San Maurizio
X-ORIGINAL-URL:https://www.comunitasanmaurizio.it
X-WR-CALDESC:Eventi per Comunità Pastorale San Maurizio
BEGIN:VTIMEZONE
TZID:Europe/Rome
BEGIN:DAYLIGHT
TZOFFSETFROM:+0100
TZOFFSETTO:+0200
TZNAME:CEST
DTSTART:20250330T010000
END:DAYLIGHT
BEGIN:STANDARD
TZOFFSETFROM:+0200
TZOFFSETTO:+0100
TZNAME:CET
DTSTART:20251026T010000
END:STANDARD
END:VTIMEZONE
BEGIN:VEVENT
DTSTART;VALUE=DATE:20250503
DTEND;VALUE=DATE:20250504
DTSTAMP:20260422T161048
CREATED:20250422T163827Z
LAST-MODIFIED:20250422T163940Z
UID:13573-1746230400-1746316799@www.comunitasanmaurizio.it
SUMMARY:festa di Santa Croce - domenica 04 maggio
DESCRIPTION:Domenica 04 maggio \nore 10.00 in Chiesa di S. Maria \nS. Messa solenne in onore del 60° di Messa di Don Tullio Citrini \n  \nore 12.30 pranzo in oratorio su prenotazione \n  \nore 15.00 Processione con al Sacra Spina \n  \n  \n
URL:https://www.comunitasanmaurizio.it/event/crux-2-2/
LOCATION:Parrocchia Santa Maria del Cerro\, Piazza S. Maria\, 8\, Cassano Magnago\, Varese\, 21012\, Italia
ATTACH;FMTTYPE=image/jpeg:https://www.comunitasanmaurizio.it/wp-content/uploads/2022/04/eventi_base.jpg
END:VEVENT
END:VCALENDAR