BEGIN:VCALENDAR
VERSION:2.0
PRODID:-//Comunità Pastorale San Maurizio - ECPv5.1.2//NONSGML v1.0//EN
CALSCALE:GREGORIAN
METHOD:PUBLISH
X-WR-CALNAME:Comunità Pastorale San Maurizio
X-ORIGINAL-URL:https://www.comunitasanmaurizio.it
X-WR-CALDESC:Eventi per Comunità Pastorale San Maurizio
BEGIN:VTIMEZONE
TZID:Europe/Rome
BEGIN:DAYLIGHT
TZOFFSETFROM:+0100
TZOFFSETTO:+0200
TZNAME:CEST
DTSTART:20250330T010000
END:DAYLIGHT
BEGIN:STANDARD
TZOFFSETFROM:+0200
TZOFFSETTO:+0100
TZNAME:CET
DTSTART:20251026T010000
END:STANDARD
END:VTIMEZONE
BEGIN:VEVENT
DTSTART;TZID=Europe/Rome:20250504T203000
DTEND;TZID=Europe/Rome:20250504T220000
DTSTAMP:20260422T125523
CREATED:20250422T163922Z
LAST-MODIFIED:20250422T163922Z
UID:13575-1746390600-1746396000@www.comunitasanmaurizio.it
SUMMARY:festa di Santa Croce - domenica 04 maggio - SACRA RAPPRESENTAZIONE
DESCRIPTION:Domenica 04 maggio \nore 20.45 SAGRATO Chiesa di S. Maria \nSOLENNE SACRA RAPPRESENTAZIONE \n  \n  \n
URL:https://www.comunitasanmaurizio.it/event/crux-2-2-2/
LOCATION:Parrocchia Santa Maria del Cerro\, Piazza S. Maria\, 8\, Cassano Magnago\, Varese\, 21012\, Italia
ATTACH;FMTTYPE=image/jpeg:https://www.comunitasanmaurizio.it/wp-content/uploads/2022/04/eventi_base.jpg
END:VEVENT
END:VCALENDAR