BEGIN:VCALENDAR
VERSION:2.0
PRODID:-//Comunità Pastorale San Maurizio - ECPv5.1.2//NONSGML v1.0//EN
CALSCALE:GREGORIAN
METHOD:PUBLISH
X-WR-CALNAME:Comunità Pastorale San Maurizio
X-ORIGINAL-URL:https://www.comunitasanmaurizio.it
X-WR-CALDESC:Eventi per Comunità Pastorale San Maurizio
BEGIN:VTIMEZONE
TZID:Europe/Rome
BEGIN:DAYLIGHT
TZOFFSETFROM:+0100
TZOFFSETTO:+0200
TZNAME:CEST
DTSTART:20250330T010000
END:DAYLIGHT
BEGIN:STANDARD
TZOFFSETFROM:+0200
TZOFFSETTO:+0100
TZNAME:CET
DTSTART:20251026T010000
END:STANDARD
END:VTIMEZONE
BEGIN:VEVENT
DTSTART;TZID=Europe/Rome:20250417T203000
DTEND;TZID=Europe/Rome:20250417T223000
DTSTAMP:20260422T234702
CREATED:20250411T093613Z
LAST-MODIFIED:20250411T093613Z
UID:13319-1744921800-1744929000@www.comunitasanmaurizio.it
SUMMARY:giovedì santo santo
DESCRIPTION:giovedì 17 aprile              S. Giulio per tutta la comunità pastorale \nore 20.45 \ncelebrazione della SANTA MESSA IN COENA DOMINI E DICSORSO DEL PARROCO ALAL COMUNITA’ PASTORALE \n
URL:https://www.comunitasanmaurizio.it/event/cru-2-2-2-2-2-3/
LOCATION:Parrocchie della Città
ATTACH;FMTTYPE=image/jpeg:https://www.comunitasanmaurizio.it/wp-content/uploads/2022/04/eventi_base.jpg
END:VEVENT
END:VCALENDAR