BEGIN:VCALENDAR
VERSION:2.0
PRODID:-//Comunità Pastorale San Maurizio - ECPv5.1.2//NONSGML v1.0//EN
CALSCALE:GREGORIAN
METHOD:PUBLISH
X-WR-CALNAME:Comunità Pastorale San Maurizio
X-ORIGINAL-URL:https://www.comunitasanmaurizio.it
X-WR-CALDESC:Eventi per Comunità Pastorale San Maurizio
BEGIN:VTIMEZONE
TZID:Europe/Rome
BEGIN:DAYLIGHT
TZOFFSETFROM:+0100
TZOFFSETTO:+0200
TZNAME:CEST
DTSTART:20250330T010000
END:DAYLIGHT
BEGIN:STANDARD
TZOFFSETFROM:+0200
TZOFFSETTO:+0100
TZNAME:CET
DTSTART:20251026T010000
END:STANDARD
END:VTIMEZONE
BEGIN:VEVENT
DTSTART;TZID=Europe/Rome:20250418T203000
DTEND;TZID=Europe/Rome:20250418T223000
DTSTAMP:20260423T024408
CREATED:20250411T093906Z
LAST-MODIFIED:20250411T094222Z
UID:13323-1745008200-1745015400@www.comunitasanmaurizio.it
SUMMARY:venerdì santo
DESCRIPTION:venerdì 18 aprile               \nore 15.00 celebrazione della PASSIONE DEL SIGNORE in San Giulio \nore 17.00 celebrazione della PASSIONE DEL SIGNORE in Santa Maria \nore 185.00 celebrazione della PASSIONE DEL SIGNORE in San Pietro \n
URL:https://www.comunitasanmaurizio.it/event/cru-2-2-2-2-2-3-3/
LOCATION:Parrocchie della Città
ATTACH;FMTTYPE=image/jpeg:https://www.comunitasanmaurizio.it/wp-content/uploads/2022/04/eventi_base.jpg
END:VEVENT
END:VCALENDAR