BEGIN:VCALENDAR
VERSION:2.0
PRODID:-//Comunità Pastorale San Maurizio - ECPv5.1.2//NONSGML v1.0//EN
CALSCALE:GREGORIAN
METHOD:PUBLISH
X-WR-CALNAME:Comunità Pastorale San Maurizio
X-ORIGINAL-URL:https://www.comunitasanmaurizio.it
X-WR-CALDESC:Eventi per Comunità Pastorale San Maurizio
BEGIN:VTIMEZONE
TZID:Europe/Rome
BEGIN:DAYLIGHT
TZOFFSETFROM:+0100
TZOFFSETTO:+0200
TZNAME:CEST
DTSTART:20250330T010000
END:DAYLIGHT
BEGIN:STANDARD
TZOFFSETFROM:+0200
TZOFFSETTO:+0100
TZNAME:CET
DTSTART:20251026T010000
END:STANDARD
END:VTIMEZONE
BEGIN:VEVENT
DTSTART;VALUE=DATE:20250413
DTEND;VALUE=DATE:20250414
DTSTAMP:20260422T175638
CREATED:20250411T094502Z
LAST-MODIFIED:20250411T094502Z
UID:13328-1744502400-1744588799@www.comunitasanmaurizio.it
SUMMARY:domenica delle Palme
DESCRIPTION:domenica 13 aprile              \nDELLE PALME \nore 09.30 celebrazione della DOMENICA DELLE PALME CON PROCESSIONE in San Giulio: RITROVO ORE 09.00 IN PIAZZA SPINA \nore 17.00 celebrazione della DOMENICA DELLE PALME CON PROCESSIONE in Santa Maria: RITROVO ORE 09.30 IN ORATORIO \nore 185.00 celebrazione della DOMENICA DELLE PALME CON PROCESSIONE in San Pietro: RITROVO ORE 09.30 IN ORATORIO \n
URL:https://www.comunitasanmaurizio.it/event/cru-2-2-2-2-2-3-3-3/
LOCATION:Parrocchie della Città
ATTACH;FMTTYPE=image/jpeg:https://www.comunitasanmaurizio.it/wp-content/uploads/2022/04/eventi_base.jpg
END:VEVENT
END:VCALENDAR