BEGIN:VCALENDAR
VERSION:2.0
PRODID:-//Comunità Pastorale San Maurizio - ECPv5.1.2//NONSGML v1.0//EN
CALSCALE:GREGORIAN
METHOD:PUBLISH
X-WR-CALNAME:Comunità Pastorale San Maurizio
X-ORIGINAL-URL:https://www.comunitasanmaurizio.it
X-WR-CALDESC:Eventi per Comunità Pastorale San Maurizio
BEGIN:VTIMEZONE
TZID:Europe/Rome
BEGIN:DAYLIGHT
TZOFFSETFROM:+0100
TZOFFSETTO:+0200
TZNAME:CEST
DTSTART:20250330T010000
END:DAYLIGHT
BEGIN:STANDARD
TZOFFSETFROM:+0200
TZOFFSETTO:+0100
TZNAME:CET
DTSTART:20251026T010000
END:STANDARD
END:VTIMEZONE
BEGIN:VEVENT
DTSTART;VALUE=DATE:20250417
DTEND;VALUE=DATE:20250418
DTSTAMP:20260422T223330
CREATED:20250411T093742Z
LAST-MODIFIED:20250411T093742Z
UID:13321-1744848000-1744934399@www.comunitasanmaurizio.it
SUMMARY:giovedì santo santo S. Maria e S. Pietro
DESCRIPTION:giovedì 17 aprile              \nore 17.00 celebrazione della SANTA MESSA IN COENA DOMINI in Santa Maria \nore 18.00 celebrazione della SANTA MESSA IN COENA DOMINI in San Pietro \n
URL:https://www.comunitasanmaurizio.it/event/cru-2-2-2-2-2-3-2/
LOCATION:Parrocchie della Città
ATTACH;FMTTYPE=image/jpeg:https://www.comunitasanmaurizio.it/wp-content/uploads/2022/04/eventi_base.jpg
END:VEVENT
END:VCALENDAR