BEGIN:VCALENDAR
VERSION:2.0
PRODID:-//Comunità Pastorale San Maurizio - ECPv5.1.2//NONSGML v1.0//EN
CALSCALE:GREGORIAN
METHOD:PUBLISH
X-WR-CALNAME:Comunità Pastorale San Maurizio
X-ORIGINAL-URL:https://www.comunitasanmaurizio.it
X-WR-CALDESC:Eventi per Comunità Pastorale San Maurizio
BEGIN:VTIMEZONE
TZID:Europe/Rome
BEGIN:DAYLIGHT
TZOFFSETFROM:+0100
TZOFFSETTO:+0200
TZNAME:CEST
DTSTART:20230326T010000
END:DAYLIGHT
BEGIN:STANDARD
TZOFFSETFROM:+0200
TZOFFSETTO:+0100
TZNAME:CET
DTSTART:20231029T010000
END:STANDARD
END:VTIMEZONE
BEGIN:VEVENT
DTSTART;TZID=Europe/Rome:20230612T180000
DTEND;TZID=Europe/Rome:20230612T220000
DTSTAMP:20260422T193800
CREATED:20230603T101715Z
LAST-MODIFIED:20230603T101715Z
UID:10060-1686592800-1686607200@www.comunitasanmaurizio.it
SUMMARY:consiglio pastorale - plenaria
DESCRIPTION:lunedì 12 giugno 2023 \nIn San Giulio alle ore 18.00 \nConsiglio pastorale conclusivo plenario \nore 18.00 S. Messa\, poi gruppi di lavoro in sintesi\, cena fraterna \n
URL:https://www.comunitasanmaurizio.it/event/cpp-2/
LOCATION:Parrocchia San Giulio\, Piazza S. Giulio\, 7\, Cassano Magnago\, Varese\, 21012\, Italia
ATTACH;FMTTYPE=image/jpeg:https://www.comunitasanmaurizio.it/wp-content/uploads/2022/04/eventi_base.jpg
END:VEVENT
END:VCALENDAR