BEGIN:VCALENDAR
VERSION:2.0
PRODID:-//Comunità Pastorale San Maurizio - ECPv5.1.2//NONSGML v1.0//EN
CALSCALE:GREGORIAN
METHOD:PUBLISH
X-WR-CALNAME:Comunità Pastorale San Maurizio
X-ORIGINAL-URL:https://www.comunitasanmaurizio.it
X-WR-CALDESC:Eventi per Comunità Pastorale San Maurizio
BEGIN:VTIMEZONE
TZID:Europe/Rome
BEGIN:DAYLIGHT
TZOFFSETFROM:+0100
TZOFFSETTO:+0200
TZNAME:CEST
DTSTART:20250330T010000
END:DAYLIGHT
BEGIN:STANDARD
TZOFFSETFROM:+0200
TZOFFSETTO:+0100
TZNAME:CET
DTSTART:20251026T010000
END:STANDARD
END:VTIMEZONE
BEGIN:VEVENT
DTSTART;TZID=Europe/Rome:20250516T203000
DTEND;TZID=Europe/Rome:20250516T220000
DTSTAMP:20260422T142652
CREATED:20250422T163327Z
LAST-MODIFIED:20250422T163327Z
UID:13565-1747427400-1747432800@www.comunitasanmaurizio.it
SUMMARY:confessioni genitori 1°comunione Santa Maria
DESCRIPTION:Venerdì 16 maggio \nore20.45 in Santa Maria \n  \nConfessioni per tutti i genitori / parenti dei ragazzi di 4 elementare in vista della 1° comunione \n
URL:https://www.comunitasanmaurizio.it/event/conf-5-2-2/
LOCATION:Parrocchia Santa Maria del Cerro\, Piazza S. Maria\, 8\, Cassano Magnago\, Varese\, 21012\, Italia
ATTACH;FMTTYPE=image/jpeg:https://www.comunitasanmaurizio.it/wp-content/uploads/2022/04/eventi_base.jpg
END:VEVENT
END:VCALENDAR