BEGIN:VCALENDAR
VERSION:2.0
PRODID:-//Comunità Pastorale San Maurizio - ECPv5.1.2//NONSGML v1.0//EN
CALSCALE:GREGORIAN
METHOD:PUBLISH
X-WR-CALNAME:Comunità Pastorale San Maurizio
X-ORIGINAL-URL:https://www.comunitasanmaurizio.it
X-WR-CALDESC:Eventi per Comunità Pastorale San Maurizio
BEGIN:VTIMEZONE
TZID:Europe/Rome
BEGIN:DAYLIGHT
TZOFFSETFROM:+0100
TZOFFSETTO:+0200
TZNAME:CEST
DTSTART:20230326T010000
END:DAYLIGHT
BEGIN:STANDARD
TZOFFSETFROM:+0200
TZOFFSETTO:+0100
TZNAME:CET
DTSTART:20231029T010000
END:STANDARD
END:VTIMEZONE
BEGIN:VEVENT
DTSTART;TZID=Europe/Rome:20230729T203000
DTEND;TZID=Europe/Rome:20230805T223000
DTSTAMP:20260422T085127
CREATED:20230728T194807Z
LAST-MODIFIED:20230728T194807Z
UID:10413-1690662600-1691274600@www.comunitasanmaurizio.it
SUMMARY:CONFESSIONI PERDONO DI ASSISI
DESCRIPTION:sabato 29 luglio in tutte le chiese secondo gli orari riportati nel notiziario \nmartedì 01 agosto in San Giulio dalle 16.30 alle 18.00 \nsabato 05 agosto in tutte le chiese secondo gli orari riportati nel notiziario \n
URL:https://www.comunitasanmaurizio.it/event/conf-4/
LOCATION:Parrocchie della Città
ATTACH;FMTTYPE=image/jpeg:https://www.comunitasanmaurizio.it/wp-content/uploads/2022/04/eventi_base.jpg
END:VEVENT
END:VCALENDAR