BEGIN:VCALENDAR
VERSION:2.0
PRODID:-//Comunità Pastorale San Maurizio - ECPv5.1.2//NONSGML v1.0//EN
CALSCALE:GREGORIAN
METHOD:PUBLISH
X-WR-CALNAME:Comunità Pastorale San Maurizio
X-ORIGINAL-URL:https://www.comunitasanmaurizio.it
X-WR-CALDESC:Eventi per Comunità Pastorale San Maurizio
BEGIN:VTIMEZONE
TZID:Europe/Rome
BEGIN:DAYLIGHT
TZOFFSETFROM:+0100
TZOFFSETTO:+0200
TZNAME:CEST
DTSTART:20230326T010000
END:DAYLIGHT
BEGIN:STANDARD
TZOFFSETFROM:+0200
TZOFFSETTO:+0100
TZNAME:CET
DTSTART:20231029T010000
END:STANDARD
END:VTIMEZONE
BEGIN:VEVENT
DTSTART;TZID=Europe/Rome:20230801T120000
DTEND;TZID=Europe/Rome:20230802T233000
DTSTAMP:20260422T084011
CREATED:20230728T195047Z
LAST-MODIFIED:20230728T195047Z
UID:10415-1690891200-1691019000@www.comunitasanmaurizio.it
SUMMARY:PERDONO DI ASSISI
DESCRIPTION:dalle ore 12.00 del 1 agosto a tutto il 2 agosto \ncondizioni ed impegni per ricevere il perdono di Assisi: \n\nvisitando una chiesa parrocchiale (San Giulio\, Santa Maria\, San Pietro)\nrecitando il Pater\, Ave\, Gloria secondo le intenzioni del papa\nrecitando il credo\npartecipando ad una S. Messa\ncompiendo un’opera di carità\nda 8 giorni prima a 8 giorni dopo la confessione sacramentale\n\n
URL:https://www.comunitasanmaurizio.it/event/conf-4-2/
LOCATION:Parrocchie della Città
ATTACH;FMTTYPE=image/jpeg:https://www.comunitasanmaurizio.it/wp-content/uploads/2022/04/eventi_base.jpg
END:VEVENT
END:VCALENDAR