BEGIN:VCALENDAR
VERSION:2.0
PRODID:-//Comunità Pastorale San Maurizio - ECPv5.1.2//NONSGML v1.0//EN
CALSCALE:GREGORIAN
METHOD:PUBLISH
X-WR-CALNAME:Comunità Pastorale San Maurizio
X-ORIGINAL-URL:https://www.comunitasanmaurizio.it
X-WR-CALDESC:Eventi per Comunità Pastorale San Maurizio
BEGIN:VTIMEZONE
TZID:Europe/Rome
BEGIN:DAYLIGHT
TZOFFSETFROM:+0100
TZOFFSETTO:+0200
TZNAME:CEST
DTSTART:20230326T010000
END:DAYLIGHT
BEGIN:STANDARD
TZOFFSETFROM:+0200
TZOFFSETTO:+0100
TZNAME:CET
DTSTART:20231029T010000
END:STANDARD
END:VTIMEZONE
BEGIN:VEVENT
DTSTART;TZID=Europe/Rome:20230406T204500
DTEND;TZID=Europe/Rome:20230406T220000
DTSTAMP:20260422T175858
CREATED:20230331T203001Z
LAST-MODIFIED:20230331T203001Z
UID:9673-1680813900-1680818400@www.comunitasanmaurizio.it
SUMMARY:S. Messa in Coena Domini
DESCRIPTION:giovedì 6 aprile 2023 \n  \nore 2o.45 \nS. Giulio S. Messa in Coena Domini e discorso alla comunità pastorale \nLavanda dei piedi \n
URL:https://www.comunitasanmaurizio.it/event/coena-2/
LOCATION:Parrocchia San Giulio\, Piazza S. Giulio\, 7\, Cassano Magnago\, Varese\, 21012\, Italia
ATTACH;FMTTYPE=image/jpeg:https://www.comunitasanmaurizio.it/wp-content/uploads/2022/04/eventi_base.jpg
END:VEVENT
END:VCALENDAR