BEGIN:VCALENDAR
VERSION:2.0
PRODID:-//Comunità Pastorale San Maurizio - ECPv5.1.2//NONSGML v1.0//EN
CALSCALE:GREGORIAN
METHOD:PUBLISH
X-WR-CALNAME:Comunità Pastorale San Maurizio
X-ORIGINAL-URL:https://www.comunitasanmaurizio.it
X-WR-CALDESC:Eventi per Comunità Pastorale San Maurizio
BEGIN:VTIMEZONE
TZID:Europe/Rome
BEGIN:DAYLIGHT
TZOFFSETFROM:+0100
TZOFFSETTO:+0200
TZNAME:CEST
DTSTART:20220327T010000
END:DAYLIGHT
BEGIN:STANDARD
TZOFFSETFROM:+0200
TZOFFSETTO:+0100
TZNAME:CET
DTSTART:20221030T010000
END:STANDARD
END:VTIMEZONE
BEGIN:VEVENT
DTSTART;TZID=Europe/Rome:20221101T093000
DTEND;TZID=Europe/Rome:20221106T190000
DTSTAMP:20260423T090552
CREATED:20221019T134047Z
LAST-MODIFIED:20221019T134047Z
UID:7100-1667295000-1667761200@www.comunitasanmaurizio.it
SUMMARY:Giussani 100; 1922-2022
DESCRIPTION:da martedì 1 novembre a domenica 6 \n in EX Chiesa di San Giulio \nMOSTRA \nore 9.30-12.30 e 16-19 \n
URL:https://www.comunitasanmaurizio.it/event/cl-2-2/
LOCATION:Parrocchia San Giulio\, Piazza S. Giulio\, 7\, Cassano Magnago\, Varese\, 21012\, Italia
ATTACH;FMTTYPE=image/jpeg:https://www.comunitasanmaurizio.it/wp-content/uploads/2022/04/eventi_base.jpg
END:VEVENT
END:VCALENDAR