BEGIN:VCALENDAR
VERSION:2.0
PRODID:-//Comunità Pastorale San Maurizio - ECPv5.1.2//NONSGML v1.0//EN
CALSCALE:GREGORIAN
METHOD:PUBLISH
X-WR-CALNAME:Comunità Pastorale San Maurizio
X-ORIGINAL-URL:https://www.comunitasanmaurizio.it
X-WR-CALDESC:Eventi per Comunità Pastorale San Maurizio
BEGIN:VTIMEZONE
TZID:Europe/Rome
BEGIN:DAYLIGHT
TZOFFSETFROM:+0100
TZOFFSETTO:+0200
TZNAME:CEST
DTSTART:20240331T010000
END:DAYLIGHT
BEGIN:STANDARD
TZOFFSETFROM:+0200
TZOFFSETTO:+0100
TZNAME:CET
DTSTART:20241027T010000
END:STANDARD
END:VTIMEZONE
BEGIN:VEVENT
DTSTART;TZID=Europe/Rome:20241111T150000
DTEND;TZID=Europe/Rome:20241111T170000
DTSTAMP:20260424T035914
CREATED:20241109T200108Z
LAST-MODIFIED:20241109T200108Z
UID:12643-1731337200-1731344400@www.comunitasanmaurizio.it
SUMMARY:FESTA DI SAN MARTINO DI TOURS
DESCRIPTION:lunedì 11 novembre \nin San Martino \nore 20.45 S. Messa \na seguire concerto del coro Sophia \n
URL:https://www.comunitasanmaurizio.it/event/cat-3-2-3/
LOCATION:Chiesa di San Martino\, Via G. Puccini\, 4\, Cassano Magnago\, Varese\, 21012
ATTACH;FMTTYPE=image/jpeg:https://www.comunitasanmaurizio.it/wp-content/uploads/2022/04/eventi_base.jpg
END:VEVENT
END:VCALENDAR