BEGIN:VCALENDAR
VERSION:2.0
PRODID:-//Comunità Pastorale San Maurizio - ECPv5.1.2//NONSGML v1.0//EN
CALSCALE:GREGORIAN
METHOD:PUBLISH
X-WR-CALNAME:Comunità Pastorale San Maurizio
X-ORIGINAL-URL:https://www.comunitasanmaurizio.it
X-WR-CALDESC:Eventi per Comunità Pastorale San Maurizio
BEGIN:VTIMEZONE
TZID:Europe/Rome
BEGIN:DAYLIGHT
TZOFFSETFROM:+0100
TZOFFSETTO:+0200
TZNAME:CEST
DTSTART:20220327T010000
END:DAYLIGHT
BEGIN:STANDARD
TZOFFSETFROM:+0200
TZOFFSETTO:+0100
TZNAME:CET
DTSTART:20221030T010000
END:STANDARD
END:VTIMEZONE
BEGIN:VEVENT
DTSTART;TZID=Europe/Rome:20220630T203000
DTEND;TZID=Europe/Rome:20220630T220000
DTSTAMP:20260421T200832
CREATED:20220624T203111Z
LAST-MODIFIED:20220624T203111Z
UID:6871-1656621000-1656626400@www.comunitasanmaurizio.it
SUMMARY:battesimo
DESCRIPTION:giovedì 30 giugno \nore 20.45 in San Giulio \nriunione dei genitori per il battesimo di settembre \n
URL:https://www.comunitasanmaurizio.it/event/battesimo-6/
LOCATION:Parrocchia San Pietro\, Via San Pio X\, 57\, Cassano Magnago\, Varese\, 21012\, Italia
ATTACH;FMTTYPE=image/jpeg:https://www.comunitasanmaurizio.it/wp-content/uploads/2022/04/eventi_base.jpg
END:VEVENT
END:VCALENDAR