BEGIN:VCALENDAR
VERSION:2.0
PRODID:-//Comunità Pastorale San Maurizio - ECPv5.1.2//NONSGML v1.0//EN
CALSCALE:GREGORIAN
METHOD:PUBLISH
X-WR-CALNAME:Comunità Pastorale San Maurizio
X-ORIGINAL-URL:https://www.comunitasanmaurizio.it
X-WR-CALDESC:Eventi per Comunità Pastorale San Maurizio
BEGIN:VTIMEZONE
TZID:Europe/Rome
BEGIN:DAYLIGHT
TZOFFSETFROM:+0100
TZOFFSETTO:+0200
TZNAME:CEST
DTSTART:20230326T010000
END:DAYLIGHT
BEGIN:STANDARD
TZOFFSETFROM:+0200
TZOFFSETTO:+0100
TZNAME:CET
DTSTART:20231029T010000
END:STANDARD
END:VTIMEZONE
BEGIN:VEVENT
DTSTART;TZID=Europe/Rome:20230722T203000
DTEND;TZID=Europe/Rome:20230726T223000
DTSTAMP:20260422T053032
CREATED:20230720T092421Z
LAST-MODIFIED:20230720T092421Z
UID:10397-1690057800-1690410600@www.comunitasanmaurizio.it
SUMMARY:FESTA DI SANT'ANNA
DESCRIPTION:sabato 22 luglio S. Messa ore 17.00 \ndomenica 23 luglio S. Messa ore 17.00 \nlunedì 23 luglio S. Messa ore 20.45 \nmartedì 24 luglio S. Messa ore 20.45 \nmercoledì 26 luglio S. Messa solenne nella festa della patrona e benedizione con la reliquia ore 20.45 \n
URL:https://www.comunitasanmaurizio.it/event/anna/
LOCATION:sant’anna\, via sant'anna\, Cassano Magnago\, VARESE\, 21012\, Italia
ATTACH;FMTTYPE=image/jpeg:https://www.comunitasanmaurizio.it/wp-content/uploads/2022/04/eventi_base.jpg
END:VEVENT
END:VCALENDAR