BEGIN:VCALENDAR
VERSION:2.0
PRODID:-//Comunità Pastorale San Maurizio - ECPv5.1.2//NONSGML v1.0//EN
CALSCALE:GREGORIAN
METHOD:PUBLISH
X-WR-CALNAME:Comunità Pastorale San Maurizio
X-ORIGINAL-URL:https://www.comunitasanmaurizio.it
X-WR-CALDESC:Eventi per Comunità Pastorale San Maurizio
BEGIN:VTIMEZONE
TZID:Europe/Rome
BEGIN:DAYLIGHT
TZOFFSETFROM:+0100
TZOFFSETTO:+0200
TZNAME:CEST
DTSTART:20230326T010000
END:DAYLIGHT
BEGIN:STANDARD
TZOFFSETFROM:+0200
TZOFFSETTO:+0100
TZNAME:CET
DTSTART:20231029T010000
END:STANDARD
END:VTIMEZONE
BEGIN:VEVENT
DTSTART;TZID=Europe/Rome:20231208T210000
DTEND;TZID=Europe/Rome:20231208T223000
DTSTAMP:20260422T070319
CREATED:20231201T075607Z
LAST-MODIFIED:20231201T075607Z
UID:11270-1702069200-1702074600@www.comunitasanmaurizio.it
SUMMARY:concerto 8 dicembre
DESCRIPTION:Giovedì 08 dicembre \nFESTA DELL’IMMACOLATA \nore 21.00 Chiesa di San Giulio \nA MASSS FOR PEACE \nconcerto patrocinato dall’università dell’Insubria \n  \n
URL:https://www.comunitasanmaurizio.it/event/ambro-2-2/
LOCATION:Parrocchia San Giulio\, Piazza S. Giulio\, 7\, Cassano Magnago\, Varese\, 21012\, Italia
ATTACH;FMTTYPE=image/jpeg:https://www.comunitasanmaurizio.it/wp-content/uploads/2022/04/eventi_base.jpg
END:VEVENT
END:VCALENDAR