BEGIN:VCALENDAR
VERSION:2.0
PRODID:-//Comunità Pastorale San Maurizio - ECPv5.1.2//NONSGML v1.0//EN
CALSCALE:GREGORIAN
METHOD:PUBLISH
X-WR-CALNAME:Comunità Pastorale San Maurizio
X-ORIGINAL-URL:https://www.comunitasanmaurizio.it
X-WR-CALDESC:Eventi per Comunità Pastorale San Maurizio
BEGIN:VTIMEZONE
TZID:Europe/Rome
BEGIN:DAYLIGHT
TZOFFSETFROM:+0100
TZOFFSETTO:+0200
TZNAME:CEST
DTSTART:20230326T010000
END:DAYLIGHT
BEGIN:STANDARD
TZOFFSETFROM:+0200
TZOFFSETTO:+0100
TZNAME:CET
DTSTART:20231029T010000
END:STANDARD
END:VTIMEZONE
BEGIN:VEVENT
DTSTART;TZID=Europe/Rome:20230408T073000
DTEND;TZID=Europe/Rome:20230408T180000
DTSTAMP:20260422T114056
CREATED:20230331T203510Z
LAST-MODIFIED:20230331T203510Z
UID:9681-1680939000-1680976800@www.comunitasanmaurizio.it
SUMMARY:confessioni per la comunità
DESCRIPTION:sabato 08 aprile 2023 \n  \ndalle ore 07.30 alle 12.00 e 15-00-18.00 \nChiesa di San Giulio \nConfessioni comunitarie \n  \n
URL:https://www.comunitasanmaurizio.it/event/adoraz-2-2-2/
LOCATION:Parrocchia San Giulio\, Piazza S. Giulio\, 7\, Cassano Magnago\, Varese\, 21012\, Italia
ATTACH;FMTTYPE=image/jpeg:https://www.comunitasanmaurizio.it/wp-content/uploads/2022/04/eventi_base.jpg
END:VEVENT
END:VCALENDAR